BEGIN:VCALENDAR
VERSION:2.0
METHOD:PUBLISH
PRODID:-//hacksw/handcal//NONSGML v1.0//EN
BEGIN:VEVENT
DTSTAMP:20260423T111809Z
DTSTART:20130324T200000Z
DTEND:20130325T075800Z
UID:20130324T200000Z-20130325T075800Z-184@akronago.org
SUMMARY:A Service of Lessons\, Hymns\, and Meditations on the Passion 
 of Christ
DESCRIPTION:The Choirs of St. Paul's\, with String Orchestra\nfeaturin
 g Samuel Barber's Adagio for Strings\nwith stirring congregational hym
 ns\nin arrangements by Daniel Fortune\n\nFree-will offering\; Receptio
 n following\n\nSponsored by Billow Funeral Home
X-ALT-DESC;FMTTYPE=text/html:<div class=page-restrict-output><p>The Ch
 oirs of St. Paul's\, with String Orchestra<br>\nfeaturing Samuel Barbe
 r's Adagio for Strings<br>\nwith stirring congregational hymns<br>\nin
  arrangements by Daniel Fortune</p>\n<p>Free-will offering\; Reception
  following</p>\n<p>Sponsored by <a href=http://billowfuneralhomes.com 
 target=_blank>Billow Funeral Home</a></p>\n</div>
URL:https://akronago.org/events/184/a-service-of-lessons-hymns-and-med
 itations-on-the-passion-of-christ/?lang=en
ATTACH:https://akronago.org/events/184/a-service-of-lessons-hymns-and-
 meditations-on-the-passion-of-christ/?lang=en
LOCATION:St Paul's Episcopal (Akron)\, 1361 W Market St\, Akron
END:VEVENT
END:VCALENDAR
