BEGIN:VCALENDAR
VERSION:2.0
METHOD:PUBLISH
PRODID:-//hacksw/handcal//NONSGML v1.0//EN
BEGIN:VEVENT
DTSTAMP:20260423T111637Z
DTSTART:20130516T233000Z
DTEND:20130517T021800Z
UID:20130516T233000Z-20130517T021800Z-183@akronago.org
SUMMARY:Akron Baroque
DESCRIPTION:Akron Baroque Orchestra
X-ALT-DESC;FMTTYPE=text/html:<div class=page-restrict-output><p><a hre
 f=http://www.akronbaroque.org/ target=_blank>Akron Baroque Orchestra</
 a></p>\n</div>
URL:https://akronago.org/events/183/akron-baroque/?lang=en
ATTACH:https://akronago.org/events/183/akron-baroque/?lang=en
LOCATION:First Congregational (Akron)\, 292 E Market St\, Akron
END:VEVENT
END:VCALENDAR
