BEGIN:VCALENDAR
VERSION:2.0
METHOD:PUBLISH
PRODID:-//hacksw/handcal//NONSGML v1.0//EN
BEGIN:VEVENT
DTSTAMP:20260423T111740Z
DTSTART:20130519T180000Z
DTEND:20130520T022600Z
UID:20130519T180000Z-20130520T022600Z-182@akronago.org
SUMMARY:Tuesday Musical Scholarship Winners Recital
DESCRIPTION:
X-ALT-DESC;FMTTYPE=text/html:<div class=page-restrict-output></div>
URL:https://akronago.org/events/182/tuesday-musical-scholarship-winner
 s-recital/?lang=en
ATTACH:https://akronago.org/events/182/tuesday-musical-scholarship-win
 ners-recital/?lang=en
LOCATION:First Congregational (Akron)\, 292 E Market St\, Akron
END:VEVENT
END:VCALENDAR
