BEGIN:VCALENDAR
VERSION:2.0
METHOD:PUBLISH
PRODID:-//hacksw/handcal//NONSGML v1.0//EN
BEGIN:VEVENT
DTSTAMP:20260423T111737Z
DTSTART:20130414T210000Z
DTEND:20130415T022300Z
UID:20130414T210000Z-20130415T022300Z-181@akronago.org
SUMMARY:University of Akron Brass Choir & Organ
DESCRIPTION:
X-ALT-DESC;FMTTYPE=text/html:<div class=page-restrict-output></div>
URL:https://akronago.org/events/181/university-of-akron-brass-choir-or
 gan/?lang=en
ATTACH:https://akronago.org/events/181/university-of-akron-brass-choir
 -organ/?lang=en
LOCATION:First Congregational (Akron)\, 292 E Market St\, Akron
END:VEVENT
END:VCALENDAR
