BEGIN:VCALENDAR
VERSION:2.0
METHOD:PUBLISH
PRODID:-//hacksw/handcal//NONSGML v1.0//EN
BEGIN:VEVENT
DTSTAMP:20260423T111725Z
DTSTART:20101113T130000Z
DTEND:20101113T180000Z
UID:20101113T130000Z-20101113T180000Z-18@akronago.org
SUMMARY:The Church Musician in the Modern Age
DESCRIPTION:A series of classes designed to help you in your ministry 
 in today's church\n\nDetails of the all the workshops are available on
  the full brochure.\nCost and lunch information is available on the re
 gistration form.\n\nDownload the full brochure\nDownload only the regi
 stration form\n\nSchedule (9:00 a.m. to 2:00 p.m.)\n\n9–9:30 Gathering
  (including continental breakfast)\n\n9:30-10:10 Session 1\nFortune's 
 500 Technology Tips (Daniel Fortune\, presenter)\nThe Mega-Church Move
 ment: Mega Trouble? (Joy Fenton\, presenter)\n\n10:15–11 Organ Reading
  Session (Lynn Frey-Steward\, presenter)\n\n11:05–11:45 Session 2\nThe
  Church Musician & the Internet (Robert Butler\, presenter)\nSink or S
 wim: A Resource Session (Joy Fenton\, presenter)\n\n11:45–12:30 Lunch\
 n\n12:30–1:15 Anthem Reading Session (Ed Hauck\, presenter)\n\n1:20–2:
 00 Session 3\nFinale Demonstration (Rex Roseman\, presenter)\nAnother 
 one bites the dust: Round Table (Joy Fenton\, moderator)
X-ALT-DESC;FMTTYPE=text/html:<div class=page-restrict-output><p><em>A 
 series of classes designed to help you in your ministry in today's chu
 rch</em></p>\n<p>Details of the all the workshops are available on the
  full brochure.<br>\nCost and lunch information is available on the re
 gistration form.</p>\n<p><a href=http://akronago.org/ago-nov-2010.pdf>
 Download the full brochure</a><br>\n<a href=http://akronago.org/ago-wo
 rkshop-registration.pdf>Download only the registration form</a></p>\n<
 h3>Schedule (9:00 a.m. to 2:00 p.m.)</h3>\n<p>\n9–9:30 Gathering (incl
 uding continental breakfast)</p>\n<p>9:30-10:10 Session 1</p>\n<ul>\n<
 li>Fortune's 500 Technology Tips (Daniel Fortune\, presenter)\n<li>The
  Mega-Church Movement: Mega Trouble? (Joy Fenton\, presenter)</ul>\n<p
 >10:15–11 Organ Reading Session (Lynn Frey-Steward\, presenter)</p>\n<
 p>11:05–11:45 Session 2</p>\n<ul>\n<li>The Church Musician & the Inter
 net (Robert Butler\, presenter)\n<li>Sink or Swim: A Resource Session 
 (Joy Fenton\, presenter)</ul>\n<p>11:45–12:30 Lunch</p>\n<p>12:30–1:15
  Anthem Reading Session (Ed Hauck\, presenter)</p>\n<p>1:20–2:00 Sessi
 on 3</p>\n<ul>\n<li>Finale Demonstration (Rex Roseman\, presenter)\n<l
 i>Another one bites the dust: Round Table (Joy Fenton\, moderator)</ul
 >\n</div>
URL:https://akronago.org/events/18/the-church-musician-in-the-modern-a
 ge/?lang=en
ATTACH:https://akronago.org/events/18/the-church-musician-in-the-moder
 n-age/?lang=en
LOCATION:St Paul's Episcopal (Akron)\, 1361 W Market St\, Akron
END:VEVENT
END:VCALENDAR
