BEGIN:VCALENDAR
VERSION:2.0
METHOD:PUBLISH
PRODID:-//hacksw/handcal//NONSGML v1.0//EN
BEGIN:VEVENT
DTSTAMP:20260423T112007Z
DTSTART:20130307T233000Z
DTEND:20130308T020700Z
UID:20130307T233000Z-20130308T020700Z-179@akronago.org
SUMMARY:University of Akron Symphony Orchestra
DESCRIPTION:
X-ALT-DESC;FMTTYPE=text/html:<div class=page-restrict-output></div>
URL:https://akronago.org/events/179/university-of-akron-symphony-orche
 stra/?lang=en
ATTACH:https://akronago.org/events/179/university-of-akron-symphony-or
 chestra/?lang=en
LOCATION:First Congregational (Akron)\, 292 E Market St\, Akron
END:VEVENT
END:VCALENDAR
