BEGIN:VCALENDAR
VERSION:2.0
METHOD:PUBLISH
PRODID:-//hacksw/handcal//NONSGML v1.0//EN
BEGIN:VEVENT
DTSTAMP:20260423T111809Z
DTSTART:20121205T160000Z
DTEND:20121206T021200Z
UID:20121205T160000Z-20121206T021200Z-176@akronago.org
SUMMARY:Bach's Lunch: Valerie Thorson with soloists
DESCRIPTION:Free Noon Concert\nValerie Thorson\, organ\, with First Ch
 urch soloists
X-ALT-DESC;FMTTYPE=text/html:<div class=page-restrict-output><p><stron
 g>Free Noon Concert</strong><br>\nValerie Thorson\, organ\, with First
  Church soloists</p>\n</div>
URL:https://akronago.org/events/176/bachs-lunch-valerie-thorson-with-s
 oloists/?lang=en
ATTACH:https://akronago.org/events/176/bachs-lunch-valerie-thorson-wit
 h-soloists/?lang=en
LOCATION:First Congregational (Akron)\, 292 E Market St\, Akron
END:VEVENT
END:VCALENDAR
