BEGIN:VCALENDAR
VERSION:2.0
METHOD:PUBLISH
PRODID:-//hacksw/handcal//NONSGML v1.0//EN
BEGIN:VEVENT
DTSTAMP:20260423T111826Z
DTSTART:20121111T210000Z
DTEND:20121112T021000Z
UID:20121111T210000Z-20121112T021000Z-175@akronago.org
SUMMARY:Harvest Home
DESCRIPTION:Blessing & Celebration of the Feed my Sheep First Congrega
 tional Church Community Garden\n\nFeaturing the First Congregational C
 hurch Choirs with Hoban High School
X-ALT-DESC;FMTTYPE=text/html:<div class=page-restrict-output><p>Blessi
 ng & Celebration of the Feed my Sheep First Congregational Church Comm
 unity Garden</p>\n<p><em>Featuring the First Congregational Church Cho
 irs with Hoban High School</em></p>\n</div>
URL:https://akronago.org/events/175/harvest-home/?lang=en
ATTACH:https://akronago.org/events/175/harvest-home/?lang=en
LOCATION:First Congregational (Akron)\, 292 E Market St\, Akron
END:VEVENT
END:VCALENDAR
