BEGIN:VCALENDAR
VERSION:2.0
METHOD:PUBLISH
PRODID:-//hacksw/handcal//NONSGML v1.0//EN
BEGIN:VEVENT
DTSTAMP:20260423T111933Z
DTSTART:20121026T230000Z
DTEND:20121027T020800Z
UID:20121026T230000Z-20121027T020800Z-173@akronago.org
SUMMARY:Family Halloween Spooktacular
DESCRIPTION:
X-ALT-DESC;FMTTYPE=text/html:<div class=page-restrict-output></div>
URL:https://akronago.org/events/173/family-halloween-spooktacular/?lan
 g=en
ATTACH:https://akronago.org/events/173/family-halloween-spooktacular/?
 lang=en
LOCATION:First Congregational (Akron)\, 292 E Market St\, Akron
END:VEVENT
END:VCALENDAR
