BEGIN:VCALENDAR
VERSION:2.0
METHOD:PUBLISH
PRODID:-//hacksw/handcal//NONSGML v1.0//EN
BEGIN:VEVENT
DTSTAMP:20260423T111827Z
DTSTART:20121011T233000Z
DTEND:20121012T020700Z
UID:20121011T233000Z-20121012T020700Z-172@akronago.org
SUMMARY:University of Akron Symphony Orchestra
DESCRIPTION:
X-ALT-DESC;FMTTYPE=text/html:<div class=page-restrict-output></div>
URL:https://akronago.org/events/172/university-of-akron-symphony-orche
 stra/?lang=en
ATTACH:https://akronago.org/events/172/university-of-akron-symphony-or
 chestra/?lang=en
LOCATION:First Congregational (Akron)\, 292 E Market St\, Akron
END:VEVENT
END:VCALENDAR
