BEGIN:VCALENDAR
VERSION:2.0
METHOD:PUBLISH
PRODID:-//hacksw/handcal//NONSGML v1.0//EN
BEGIN:VEVENT
DTSTAMP:20260423T111907Z
DTSTART:20120918T160000Z
DTEND:20120918T203200Z
UID:20120918T160000Z-20120918T203200Z-171@akronago.org
SUMMARY:A Celebration of Music & the Visual Arts (Brown Bag Concert)
DESCRIPTION:A Celebration of Music and the Visual Arts will include a 
 display of selected art work from Medina County children. In our sanct
 uary a recital of musical instruments will be performed by young stude
 nts in our local area. \n\nTo complete the celebration\, we have obtai
 ned the musical talent of Jay Albert\, classical guitarist and graduat
 e of Baldwin Wallace. \n\nBrown bag lunches may be purchased for just 
 $5.00. Just call the church office at 330-725-4131 and reserve yours a
 t least 24 hours before the concert.\n\nConcert is free and open to th
 e public.
X-ALT-DESC;FMTTYPE=text/html:<div class=page-restrict-output><p><stron
 g>A Celebration of Music and the Visual Arts</strong> will include a d
 isplay of selected art work from Medina County children. In our sanctu
 ary a recital of musical instruments will be performed by young studen
 ts in our local area. </p>\n<p>To complete the celebration\, we have o
 btained the musical talent of <strong>Jay Albert\, classical guitarist
 </strong> and graduate of Baldwin Wallace. </p>\n<p>Brown bag lunches 
 may be purchased for just $5.00. Just call the church office at 330-72
 5-4131 and reserve yours at least 24 hours before the concert.</p>\n<p
 >Concert is free and open to the public.</p>\n</div>
URL:https://akronago.org/events/171/brown-bag-concert-jay-albert-guita
 r/?lang=en
ATTACH:https://akronago.org/events/171/brown-bag-concert-jay-albert-gu
 itar/?lang=en
LOCATION:St Paul's Episcopal (Medina)\, 317 East Liberty Street\, Medi
 na
END:VEVENT
END:VCALENDAR
