BEGIN:VCALENDAR
VERSION:2.0
METHOD:PUBLISH
PRODID:-//hacksw/handcal//NONSGML v1.0//EN
BEGIN:VEVENT
DTSTAMP:20260423T111807Z
DTSTART:20130609T200000Z
DTEND:20130609T230000Z
UID:20130609T200000Z-20130609T230000Z-170@akronago.org
SUMMARY:Akron Chapter Picnic
DESCRIPTION:A crock-pot of sloppy Joes\, buns\, beverages\, and paper 
 service will be provided.\n\nPlease bring one item\, following the gui
 delines below:\n\nA–G = dessert\nH–P = side dish\nQ–Z = salad\n\nIf yo
 u have a specialty that doesn’t fall into your category\, please feel 
 free to bring it!\n\nIt would help if people brought lawn chairs\, too
 \, and a card table\, if possible.\n\nAlso bring some music and try ou
 t the Allen organ\, if you like (organ shoes required!).\n\nIf you nee
 d directions\, please call or email the Harsneys (kmhtmh@neo.rr.com).
X-ALT-DESC;FMTTYPE=text/html:<div class=page-restrict-output><p>A croc
 k-pot of sloppy Joes\, buns\, beverages\, and paper service will be pr
 ovided.</p>\n<p>Please bring one item\, following the guidelines below
 :</p>\n<p>A–G = dessert<br>\nH–P = side dish<br>\nQ–Z = salad</p>\n<p>
 If you have a specialty that doesn’t fall into your category\, please 
 feel free to bring it!</p>\n<p>It would help if people brought lawn ch
 airs\, too\, and a card table\, if possible.</p>\n<p>Also bring some m
 usic and try out the Allen organ\, if you like (organ shoes required!)
 .</p>\n<p>If you need directions\, please call or email the Harsneys (
 k&#109\;&#104\;&#116\;&#x6d\;&#x68\;&#x40\;ne&#111\;&#46\;&#x72\;&#x72
 \;&#x2e\;&#x63\;om).</p>\n</div>
URL:https://akronago.org/events/170/akron-chapter-picnic/?lang=en
ATTACH:https://akronago.org/events/170/akron-chapter-picnic/?lang=en
LOCATION:Home of Karl & Terry Harsney (Fairlawn)\, 3083 Chamberlain Rd
 \, Fairlawn
END:VEVENT
END:VCALENDAR
