BEGIN:VCALENDAR
VERSION:2.0
METHOD:PUBLISH
PRODID:-//hacksw/handcal//NONSGML v1.0//EN
BEGIN:VEVENT
DTSTAMP:20260423T111725Z
DTSTART:20101205T190000Z
DTEND:20101205T040000Z
UID:20101205T190000Z-20101205T040000Z-17@akronago.org
SUMMARY:In Terra Pax—Peace on Earth
DESCRIPTION:Featuring In Terra Pax by Gerald Finzi\n\nFirst Congregati
 onal Church Chancel Choir & Canton Men's Chorus\nValerie Thorson & Jos
 eph Guy\, conductors\nOrgan\, harp\, and string accompaniment
X-ALT-DESC;FMTTYPE=text/html:<div class=page-restrict-output><p>Featur
 ing In Terra Pax by Gerald Finzi</p>\n<p>First Congregational Church C
 hancel Choir & Canton Men's Chorus<br>\nValerie Thorson & Joseph Guy\,
  conductors<br>\nOrgan\, harp\, and string accompaniment</p>\n</div>
URL:https://akronago.org/events/17/in-terra-pax-e2-80-94peace-on-earth
 /?lang=en
ATTACH:https://akronago.org/events/17/in-terra-pax-e2-80-94peace-on-ea
 rth/?lang=en
LOCATION:First Congregational (Akron)\, 292 E Market St\, Akron
END:VEVENT
END:VCALENDAR
