BEGIN:VCALENDAR
VERSION:2.0
METHOD:PUBLISH
PRODID:-//hacksw/handcal//NONSGML v1.0//EN
BEGIN:VEVENT
DTSTAMP:20260423T111740Z
DTSTART:20130420T140000Z
DTEND:20130421T015500Z
UID:20130420T140000Z-20130421T015500Z-169@akronago.org
SUMMARY:Dorothy Papadakos
DESCRIPTION:
X-ALT-DESC;FMTTYPE=text/html:<div class=page-restrict-output></div>
URL:https://akronago.org/events/169/dorothy-papadakos/?lang=en
ATTACH:https://akronago.org/events/169/dorothy-papadakos/?lang=en
LOCATION:Holy Trinity Lutheran (Akron)\, 50 North Prospect St\, Akron
END:VEVENT
END:VCALENDAR
