BEGIN:VCALENDAR
VERSION:2.0
METHOD:PUBLISH
PRODID:-//hacksw/handcal//NONSGML v1.0//EN
BEGIN:VEVENT
DTSTAMP:20260423T111904Z
DTSTART:20130223T130000Z
DTEND:20130223T190000Z
UID:20130223T130000Z-20130223T190000Z-168@akronago.org
SUMMARY:Church Music Workshops
DESCRIPTION:More than a Musician: Music Director\, Administrator\, Dip
 lomat\nSaturday\, Feb. 23 from 9:00 a.m. – 3:00 p.m.\n$25 for current 
 AGO members   |   $35 for non-members\nNo lunches will be available fo
 r walk-ins or registrations received after Feb. 20.\nWalk-ins on Feb. 
 23 and those who choose the No lunch option pay the same $25/$35 price
 . \nDownload our brochure\nPresenters\nDr. Richard Konzen: Organ Repet
 oire for the Modest Organist & for Modest Organs\nBrooks Grantier: Reg
 ion V Convention in Kalamazoo\, June 30–July 3\nDr. Barbara MacGregor:
  AGO Certification\nDr. Richard Konzen: Internet Resources for Free Or
 gan Music\nJames Mismas: Choral Anthem Reading\nDr. David Kienzle and 
 The Rev. David de Vries: Clergy & Musicians: Working together!\n\n\n\n
 \n\nSCHEDULE AT-A-GLANCE\n\n\n\n8:45 a.m.\nCoffee & Sign-in\n\n\n9:00–
 10:00\nDr. Richard Konzen\nOrgan Repertoire\n\n\n10:10–11:00\n\n(choos
 e one workshop)\nBrooks Grantier\nKalamazoo ConventionDr. Barbara MacG
 regor\nAGO Certification\n\n\n11:10–12:00\nDr. Richard Konzen\nOrgan M
 usic on the Internet\n\n\n12:00–12:45\nLunch in the Parish Hall\n(regi
 stration required by Feb. 20)\n\n\n12:45-1:45\nJames Mismas\nChoral Re
 ading Session\n\n\n1:50–3:00\nDr. David Kienzle and\nThe Rev. David de
  Vries\nClergy/Musician Relationships\n\n\n\n 
X-ALT-DESC;FMTTYPE=text/html:<div class=page-restrict-output><h2><stro
 ng>More than a Musician: Music Director\, Administrator\, Diplomat</st
 rong></h2>\n<h3><strong></strong>Saturday\, Feb. 23 from 9:00 a.m. – 3
 :00 p.m.</h3>\n<p><span style=color: #800080\;><strong><span style=col
 or: #008000\;>$25 for current AGO members</span>   <span style=color: 
 #000000\;>|</span>   $35 for non-members</strong></span><br>\n<em><spa
 n style=color: #ff0000\;>No lunches will be available for walk-ins or 
 registrations received after Feb. 20.</span></em><br>\n<em><span style
 =color: #ff0000\;>Walk-ins on Feb. 23 and those who choose the No lunc
 h option pay the same $25/$35 price. </span></em></p>\n<h3><a href=htt
 p://http://akronago.org/wp-content/uploads/ago_feb_2013_workshops.pdf>
 Download our brochure</a></h3>\n<h3><strong><em>Presenters</em></stron
 g></h3>\n<p><strong>Dr. Richard Konzen:</strong> Organ Repetoire for t
 he Modest Organist &amp\; for Modest Organs<br>\n<strong>Brooks Granti
 er:</strong> Region V Convention in Kalamazoo\, June 30–July 3<br>\n<s
 trong>Dr. Barbara MacGregor:</strong> AGO Certification<br>\n<strong>D
 r. Richard Konzen:</strong> Internet Resources for Free Organ Music<br
 >\n<strong>James Mismas:</strong> Choral Anthem Reading<br>\n<strong>D
 r. David Kienzle and The Rev. David de Vries:</strong> Clergy &amp\; M
 usicians: Working together!</p>\n<table cellspacing=0 cellpadding=0>\n
 <tbody>\n<tr>\n<td colspan=2 valign=top>\n<h3 style=text-align: center
 \;><span style=color: #800000\;><strong>SCHEDULE AT-A-GLANCE</strong><
 /span></h3>\n</td>\n</tr>\n<tr>\n<td valign=top>8:45 a.m.</td>\n<td va
 lign=top>Coffee &amp\; Sign-in</td>\n</tr>\n<tr>\n<td valign=top>9:00–
 10:00</td>\n<td valign=top><strong>Dr. Richard Konzen<br>\n</strong>Or
 gan Repertoire</td>\n</tr>\n<tr>\n<td valign=top>10:10–11:00</p>\n<p><
 em>(choose one workshop)</em></td>\n<td valign=top><strong>Brooks Gran
 tier<br>\n</strong>Kalamazoo Convention<strong>Dr. Barbara MacGregor<b
 r>\n</strong>AGO Certification</td>\n</tr>\n<tr>\n<td valign=top>11:10
 –12:00</td>\n<td valign=top><strong>Dr. Richard Konzen<br>\n</strong>O
 rgan Music on the Internet</td>\n</tr>\n<tr>\n<td valign=top>12:00–12:
 45</td>\n<td valign=top>Lunch in the Parish Hall<br>\n<em>(registratio
 n required by Feb. 20)</em></td>\n</tr>\n<tr>\n<td valign=top>12:45-1:
 45</td>\n<td valign=top><strong>James Mismas<br>\n</strong>Choral Read
 ing Session</td>\n</tr>\n<tr>\n<td valign=top>1:50–3:00</td>\n<td vali
 gn=top><strong>Dr. David Kienzle </strong>and<br>\n<strong>The</strong
 > <strong>Rev. David de Vries<br>\n</strong>Clergy/Musician Relationsh
 ips</td>\n</tr>\n</tbody>\n</table>\n<p>&nbsp\;</p>\n</div>
URL:https://akronago.org/events/168/mid-winter-church-music-workshop/?
 lang=en
ATTACH:https://akronago.org/events/168/mid-winter-church-music-worksho
 p/?lang=en
LOCATION:St Paul's Episcopal (Akron)\, 1361 W Market St\, Akron
END:VEVENT
END:VCALENDAR
