BEGIN:VCALENDAR
VERSION:2.0
METHOD:PUBLISH
PRODID:-//hacksw/handcal//NONSGML v1.0//EN
BEGIN:VEVENT
DTSTAMP:20260423T111904Z
DTSTART:20130106T220000Z
DTEND:20130107T000000Z
UID:20130106T220000Z-20130107T000000Z-167@akronago.org
SUMMARY:12th Night Party—Make the Music Fit
DESCRIPTION:Organ Presentation (9-rank Schantz)\nDiane Bish videos
X-ALT-DESC;FMTTYPE=text/html:<div class=page-restrict-output><p>Organ 
 Presentation (9-rank Schantz)<br>\nDiane Bish videos</p>\n</div>
URL:https://akronago.org/events/167/12th-night-party-e2-80-94make-the-
 music-fit/?lang=en
ATTACH:https://akronago.org/events/167/12th-night-party-e2-80-94make-t
 he-music-fit/?lang=en
LOCATION:Redeemer North Hill U Methodist\, 265 E Cuyahoga Falls Ave\, 
 Akron\, OH
END:VEVENT
END:VCALENDAR
