BEGIN:VCALENDAR
VERSION:2.0
METHOD:PUBLISH
PRODID:-//hacksw/handcal//NONSGML v1.0//EN
BEGIN:VEVENT
DTSTAMP:20260423T111826Z
DTSTART:20121207T233000Z
DTEND:20121208T010000Z
UID:20121207T233000Z-20121208T010000Z-166@akronago.org
SUMMARY:Christmas Choir Festival\, with brass quintet
DESCRIPTION:Three area choirs—Bethany United Church of Christ\, Cuyaho
 ga Falls\, Northminster Presbyterian Church\, Cuyahoga Falls\; and Red
 eemer United Methodist Church\, Akron—will sing at a Christmas Choir F
 estival held at Bethany United Church of Christ on Friday\, December 7
  at 7:30 p.m. The Festival is free. An offering will go toward the Akr
 on Chapter AGO Scholarship Fund.\n\nEach choir will sing a set of thei
 r favorite Christmas Carols and Anthems and will then join together in
  singing  “What Star is This” by Craig Curry and the Hallelujah Chorus
  by G.F. Handel. The choirs will be accompanied by the Falls River Bra
 ss and organ. A reception will follow.\n\nDawn Filler\, Bethany organi
 st\, is planning the program.
X-ALT-DESC;FMTTYPE=text/html:<div class=page-restrict-output><p>Three 
 area choirs—Bethany United Church of Christ\, Cuyahoga Falls\, Northmi
 nster Presbyterian Church\, Cuyahoga Falls\; and Redeemer United Metho
 dist Church\, Akron—will sing at a Christmas Choir Festival held at Be
 thany United Church of Christ on Friday\, December 7 at 7:30 p.m. The 
 Festival is free. An offering will go toward the Akron Chapter AGO Sch
 olarship Fund.</p>\n<p>Each choir will sing a set of their favorite Ch
 ristmas Carols and Anthems and will then join together in singing  “Wh
 at Star is This” by Craig Curry and the Hallelujah Chorus by G.F. Hand
 el. The choirs will be accompanied by the Falls River Brass and organ.
  A reception will follow.</p>\n<p>Dawn Filler\, Bethany organist\, is 
 planning the program.</p>\n</div>
URL:https://akronago.org/events/166/community-choir-concert-with-brass
 -quintet/?lang=en
ATTACH:https://akronago.org/events/166/community-choir-concert-with-br
 ass-quintet/?lang=en
LOCATION:Bethany UCC (Cuyahoga Falls)\, 1235 Broad Boulevard\, Cuyahog
 a Falls\, OH
END:VEVENT
END:VCALENDAR
