BEGIN:VCALENDAR
VERSION:2.0
METHOD:PUBLISH
PRODID:-//hacksw/handcal//NONSGML v1.0//EN
BEGIN:VEVENT
DTSTAMP:20260423T111739Z
DTSTART:20121207T223000Z
DTEND:20121210T012500Z
UID:20121207T223000Z-20121210T012500Z-165@akronago.org
SUMMARY:Madrigal Dinners
DESCRIPTION:Friday\, December 7—6:30 p.m.\nSaturday\, December 8—6:30 
 p.m.\nSunday\, December 9—4:30 p.m.\n\nTicket and other information at
  stpaulsakron.org/madrigal-dinners.aspx 
X-ALT-DESC;FMTTYPE=text/html:<div class=page-restrict-output><p>Friday
 \, December 7—6:30 p.m.<br>\nSaturday\, December 8—6:30 p.m.<br>\nSund
 ay\, December 9—4:30 p.m.</p>\n<p>Ticket and other information at <a h
 ref=http://stpaulsakron.org/madrigal-dinners.aspx target=_blank>stpaul
 sakron.org/madrigal-dinners.aspx </a></p>\n</div>
URL:https://akronago.org/events/165/madrigal-dinners/?lang=en
ATTACH:https://akronago.org/events/165/madrigal-dinners/?lang=en
LOCATION:St Paul's Episcopal (Akron)\, 1361 W Market St\, Akron
END:VEVENT
END:VCALENDAR
