BEGIN:VCALENDAR
VERSION:2.0
METHOD:PUBLISH
PRODID:-//hacksw/handcal//NONSGML v1.0//EN
BEGIN:VEVENT
DTSTAMP:20260423T111808Z
DTSTART:20121202T200000Z
DTEND:20121203T012300Z
UID:20121202T200000Z-20121203T012300Z-164@akronago.org
SUMMARY:Lessons & Carols on Advent Sunday
DESCRIPTION:Lessons & Carols on Advent Sunday at 4:00 p.m.\nThe St. Ca
 therine's Choir of Women\, the Choir of Men and Boys\, and the St. Cec
 ilia Choir of Girls
X-ALT-DESC;FMTTYPE=text/html:<div class=page-restrict-output><h4>Lesso
 ns &amp\; Carols on Advent Sunday at 4:00 p.m.</h4>\n<p>The St. Cather
 ine's Choir of Women\, the Choir of Men and Boys\, and the St. Cecilia
  Choir of Girls</p>\n</div>
URL:https://akronago.org/events/164/lessons-carols-on-advent-sunday/?l
 ang=en
ATTACH:https://akronago.org/events/164/lessons-carols-on-advent-sunday
 /?lang=en
LOCATION:St Paul's Episcopal (Akron)\, 1361 W Market St\, Akron
END:VEVENT
END:VCALENDAR
