BEGIN:VCALENDAR
VERSION:2.0
METHOD:PUBLISH
PRODID:-//hacksw/handcal//NONSGML v1.0//EN
BEGIN:VEVENT
DTSTAMP:20260423T111912Z
DTSTART:20121118T200000Z
DTEND:20121119T012200Z
UID:20121118T200000Z-20121119T012200Z-163@akronago.org
SUMMARY:Evensong
DESCRIPTION:Evensong at 4:00 p.m.\nThe St. Catherine's Choir of Women
X-ALT-DESC;FMTTYPE=text/html:<div class=page-restrict-output><h4>Evens
 ong at 4:00 p.m.</h4>\n<p>The St. Catherine's Choir of Women</p>\n</di
 v>
URL:https://akronago.org/events/163/evensong/?lang=en
ATTACH:https://akronago.org/events/163/evensong/?lang=en
LOCATION:St Paul's Episcopal (Akron)\, 1361 W Market St\, Akron
END:VEVENT
END:VCALENDAR
