BEGIN:VCALENDAR
VERSION:2.0
METHOD:PUBLISH
PRODID:-//hacksw/handcal//NONSGML v1.0//EN
BEGIN:VEVENT
DTSTAMP:20260423T111654Z
DTSTART:20121021T200000Z
DTEND:20121022T012000Z
UID:20121021T200000Z-20121022T012000Z-162@akronago.org
SUMMARY:Evensong
DESCRIPTION:Evensong at 4:00 p.m.\nThe St. Cecilia Choir of Girls and 
 the Choir of Men & Boys\n\nRichard Ayleward   Preces & Responses\nA. H
 erbert Brewer   Magnificat and Nunc dimittis in D\nFelix Mendelssohn  
  He watching over Israel
X-ALT-DESC;FMTTYPE=text/html:<div class=page-restrict-output><h4>Evens
 ong at 4:00 p.m.</h4>\n<p>The St. Cecilia Choir of Girls and the Choir
  of Men &amp\; Boys</p>\n<p><em>Richard Ayleward </em>  Preces &amp\; 
 Responses<br>\n<em>A. Herbert Brewer</em>   Magnificat and Nunc dimitt
 is in D<br>\n<em>Felix Mendelssohn</em>   He watching over Israel</p>\
 n</div>
URL:https://akronago.org/events/162/evensong/?lang=en
ATTACH:https://akronago.org/events/162/evensong/?lang=en
LOCATION:St Paul's Episcopal (Akron)\, 1361 W Market St\, Akron
END:VEVENT
END:VCALENDAR
