BEGIN:VCALENDAR
VERSION:2.0
METHOD:PUBLISH
PRODID:-//hacksw/handcal//NONSGML v1.0//EN
BEGIN:VEVENT
DTSTAMP:20260423T111912Z
DTSTART:20121020T233000Z
DTEND:20121021T011700Z
UID:20121020T233000Z-20121021T011700Z-161@akronago.org
SUMMARY:Cantores Cleveland
DESCRIPTION:Cantores Cleveland is a vocal performance ensemble founded
  in 2004 that presents the music\, other arts and society of the late 
 Medieval and Renaissance eras.\n\nOn October 20\, they will present a 
 multi-disciplinary program of middle and late Renaissance music and ar
 t.\n\nTo purchase tickets to this concert\, please visit www.cantoresc
 leveland.org.
X-ALT-DESC;FMTTYPE=text/html:<div class=page-restrict-output><p><stron
 g>Cantores Cleveland</strong> is a vocal performance ensemble founded 
 in 2004 that presents the music\, other arts and society of the late M
 edieval and Renaissance eras.</p>\n<p>On October 20\, they will presen
 t a multi-disciplinary program of middle and late Renaissance music an
 d art.</p>\n<p>To purchase tickets to this concert\, please visit <a h
 ref=http://www.cantorescleveland.org/>www.cantorescleveland.org.</a></
 p>\n</div>
URL:https://akronago.org/events/161/cantores-cleveland/?lang=en
ATTACH:https://akronago.org/events/161/cantores-cleveland/?lang=en
LOCATION:St Paul's Episcopal (Akron)\, 1361 W Market St\, Akron
END:VEVENT
END:VCALENDAR
