BEGIN:VCALENDAR
VERSION:2.0
METHOD:PUBLISH
PRODID:-//hacksw/handcal//NONSGML v1.0//EN
BEGIN:VEVENT
DTSTAMP:20260423T112008Z
DTSTART:20120930T200000Z
DTEND:20121001T011100Z
UID:20120930T200000Z-20121001T011100Z-160@akronago.org
SUMMARY:Ken Cowan & Lisa Shihoten: Organ & Violin Duo Concert
DESCRIPTION:Ken Cowan (organ) and his wife\, Lisa Shihoten (violin)\, 
 will combine forces to present an exciting program of virtuoso works f
 or violin and organ.\n\nFree admission. Free-will offering. Reception 
 following.
X-ALT-DESC;FMTTYPE=text/html:<div class=page-restrict-output><p><a hre
 f=http://www.concertorganists.com/artists/ken-cowan-and-lisa-shihoten/
  target=_blank>Ken Cowan (organ) and his wife\, Lisa Shihoten (violin)
 </a>\, will combine forces to present an exciting program of virtuoso 
 works for violin and organ.</p>\n<p><em>Free admission. Free-will offe
 ring. Reception following.</em></p>\n</div>
URL:https://akronago.org/events/160/ken-cowan-lisa-shihoten-organ-viol
 in-duo-concert/?lang=en
ATTACH:https://akronago.org/events/160/ken-cowan-lisa-shihoten-organ-v
 iolin-duo-concert/?lang=en
LOCATION:St Paul's Episcopal (Akron)\, 1361 W Market St\, Akron
END:VEVENT
END:VCALENDAR
