BEGIN:VCALENDAR
VERSION:2.0
METHOD:PUBLISH
PRODID:-//hacksw/handcal//NONSGML v1.0//EN
BEGIN:VEVENT
DTSTAMP:20260423T111727Z
DTSTART:20101202T233000Z
DTEND:20101202T040000Z
UID:20101202T233000Z-20101202T040000Z-16@akronago.org
SUMMARY:U of Akron Symphony Orchestra
DESCRIPTION:Guy Victor Bordo\, conductor
X-ALT-DESC;FMTTYPE=text/html:<div class=page-restrict-output><p>Guy Vi
 ctor Bordo\, conductor</p>\n</div>
URL:https://akronago.org/events/16/u-of-akron-symphony-orchestra/?lang
 =en
ATTACH:https://akronago.org/events/16/u-of-akron-symphony-orchestra/?l
 ang=en
LOCATION:First Congregational (Akron)\, 292 E Market St\, Akron
END:VEVENT
END:VCALENDAR
