BEGIN:VCALENDAR
VERSION:2.0
METHOD:PUBLISH
PRODID:-//hacksw/handcal//NONSGML v1.0//EN
BEGIN:VEVENT
DTSTAMP:20260423T111827Z
DTSTART:20120915T001500Z
DTEND:20120915T003500Z
UID:20120915T001500Z-20120915T003500Z-156@akronago.org
SUMMARY:Part 2—Preludes\, Postludes & Other: Practical Repertoire for 
 the Fast-Lane Organist
DESCRIPTION:Preludes\, Postludes & Other: Practical Repertoire for the
  Fast-Lane Organist\n7:30-7:50 Redeemer Lutheran — 2141 Fifth St. (Bil
 l Ellenberger)\n8:15-8:35 St. John’s Episcopal — 2220 Second St. (Sid 
 Storry)\n8:45-9:05 First United Methodist — 245 Portage Trail (Dean Wa
 gner)\nAt 6:00 p.m.\, join us for an Akron Chapter AGO dinner at Lacon
 i’s (547 Sackett Ave\, Cuyahoga Falls). Dinner is  followed by the pro
 gressive organ repertoire session above.\n\nRSVP for the dinner to Mar
 y Ragna Yetter\, 330-869-2154.\n\nLaconi's has quite a variety of sand
 wiches\, burgers\, fish and fried chicken dinners\, pasta dishes—all f
 or under $10. See this website for a menu and reviews:\nhttp://www.urb
 anspoon.com/cities/16-cleveland/restaurants/203874-retz-s-laconi-s-ii/
 menu
X-ALT-DESC;FMTTYPE=text/html:<div class=page-restrict-output><p><stron
 g>Preludes\, Postludes &amp\; Other: Practical Repertoire for the Fast
 -Lane Organist</strong></p>\n<p style=padding-left: 30px\;>7:30-7:50 R
 edeemer Lutheran — 2141 Fifth St. (Bill Ellenberger)<br>\n<span style=
 color: #993300\;><strong>8:15-8:35 St. John’s Episcopal — 2220 Second 
 St. (Sid Storry)</strong></span><br>\n8:45-9:05 First United Methodist
  — 245 Portage Trail (Dean Wagner)</p>\n<p>At 6:00 p.m.\, join us for 
 an Akron Chapter AGO dinner at Laconi’s (547 Sackett Ave\, Cuyahoga Fa
 lls). Dinner is  followed by the progressive organ repertoire session 
 above.</p>\n<p><span style=color: #ff0000\;>RSVP for the dinner to Mar
 y Ragna Yetter\, 330-869-2154.</span></p>\n<p>Laconi's has quite a var
 iety of sandwiches\, burgers\, fish and fried chicken dinners\, pasta 
 dishes—all for under $10. See this website for a menu and reviews:<br>
 \nhttp://www.urbanspoon.com/cities/16-cleveland/restaurants/203874-ret
 z-s-laconi-s-ii/menu</p>\n</div>
URL:https://akronago.org/events/156/part-2-e2-80-94preludes-postludes-
 other-practical-repertoire-for-the-fast-lane-organist/?lang=en
ATTACH:https://akronago.org/events/156/part-2-e2-80-94preludes-postlud
 es-other-practical-repertoire-for-the-fast-lane-organist/?lang=en
LOCATION:St John’s Episcopal (Cuyahoga Falls)\, 2220 Second Street\, C
 uyahoga Falls
END:VEVENT
END:VCALENDAR
