BEGIN:VCALENDAR
VERSION:2.0
METHOD:PUBLISH
PRODID:-//hacksw/handcal//NONSGML v1.0//EN
BEGIN:VEVENT
DTSTAMP:20260423T111810Z
DTSTART:20120914T220000Z
DTEND:20120914T231500Z
UID:20120914T220000Z-20120914T231500Z-154@akronago.org
SUMMARY:Akron Chapter Dinner at Laconi’s (Cuyahoga Falls)
DESCRIPTION:Akron Chapter AGO dinner at Laconi’s\, followed by a progr
 essive organ repertoire session—Preludes\, Postludes & Other: Practica
 l Repertoire for the Fast-Lane Organist\, held at three nearby churche
 s (details below).\n\nRSVP for the dinner to Mary Ragna Yetter\, 330-8
 69-2154.\n\nLaconi's has quite a variety of sandwiches\, burgers\, fis
 h and fried chicken dinners\, pasta dishes—all for under $10. See this
  website for a menu and reviews:\nhttp://www.urbanspoon.com/cities/16-
 cleveland/restaurants/203874-retz-s-laconi-s-ii/menu\n\nPreludes\, Pos
 tludes & Other: Practical Repertoire for the Fast-Lane Organist \n7:30
 -7:50 Redeemer Lutheran — 2141 Fifth St. (Bill Ellenberger)\n8:15-8:35
  St. John’s Episcopal — 2220 Second St. (Sid Storry)\n8:45-9:05 First 
 United Methodist — 245 Portage Trail (Dean Wagner)
X-ALT-DESC;FMTTYPE=text/html:<div class=page-restrict-output><p><stron
 g><span style=color: #993300\;>Akron Chapter AGO dinner at Laconi’s\,<
 /span></strong> followed by a progressive organ repertoire session—<st
 rong>Preludes\, Postludes &amp\; Other: Practical Repertoire for the F
 ast-Lane Organist</strong>\, held at three nearby churches (details be
 low).</p>\n<p><span style=color: #ff0000\;>RSVP for the dinner to Mary
  Ragna Yetter\, 330-869-2154.</span></p>\n<p>Laconi's has quite a vari
 ety of sandwiches\, burgers\, fish and fried chicken dinners\, pasta d
 ishes—all for under $10. See this website for a menu and reviews:<br>\
 nhttp://www.urbanspoon.com/cities/16-cleveland/restaurants/203874-retz
 -s-laconi-s-ii/menu</p>\n<p><strong>Preludes\, Postludes &amp\; Other:
  Practical Repertoire for the Fast-Lane Organist </strong></p>\n<p sty
 le=padding-left: 30px\;>7:30-7:50 Redeemer Lutheran — 2141 Fifth St. (
 Bill Ellenberger)<br>\n8:15-8:35 St. John’s Episcopal — 2220 Second St
 . (Sid Storry)<br>\n8:45-9:05 First United Methodist — 245 Portage Tra
 il (Dean Wagner)</p>\n</div>
URL:https://akronago.org/events/154/akron-chapter-dinner-at-laconi-e2-
 80-99s-cuyahoga-falls/?lang=en
ATTACH:https://akronago.org/events/154/akron-chapter-dinner-at-laconi-
 e2-80-99s-cuyahoga-falls/?lang=en
LOCATION:Laconi’s (Cuyahoga Falls)\, 547 Sackett Avenue\, Cuyahoga Fal
 ls\, OH
END:VEVENT
END:VCALENDAR
