BEGIN:VCALENDAR
VERSION:2.0
METHOD:PUBLISH
PRODID:-//hacksw/handcal//NONSGML v1.0//EN
BEGIN:VEVENT
DTSTAMP:20260423T112009Z
DTSTART:20130704T210000Z
DTEND:20130705T020000Z
UID:20130704T210000Z-20130705T020000Z-153@akronago.org
SUMMARY:Brickstreet Jazz Festival/Art Show (in Zwisler Hall)
DESCRIPTION:
X-ALT-DESC;FMTTYPE=text/html:<div class=page-restrict-output></div>
URL:https://akronago.org/events/153/brickstreet-jazz-festivalart-show-
 in-zwisler-hall/?lang=en
ATTACH:https://akronago.org/events/153/brickstreet-jazz-festivalart-sh
 ow-in-zwisler-hall/?lang=en
LOCATION:St Sebastian RC (Akron)\, 476 Mull Ave\, Akron
END:VEVENT
END:VCALENDAR
