BEGIN:VCALENDAR
VERSION:2.0
METHOD:PUBLISH
PRODID:-//hacksw/handcal//NONSGML v1.0//EN
BEGIN:VEVENT
DTSTAMP:20260423T111636Z
DTSTART:20130504T230000Z
DTEND:20130504T235500Z
UID:20130504T230000Z-20130504T235500Z-152@akronago.org
SUMMARY:Akron Regional Chamber Orchestra
DESCRIPTION:Benjamin Beals\, director\nMario Buchanan\, assistant dire
 ctor\n\nAkron Regional Chamber Orchestra website\n\nSt. Sebastian’s Mu
 sic
X-ALT-DESC;FMTTYPE=text/html:<div class=page-restrict-output><p>Benjam
 in Beals\, director<br>\nMario Buchanan\, assistant director</p>\n<p><
 a href=http://www.arcorchestra.org/ target=_blank>Akron Regional Chamb
 er Orchestra website</a></p>\n<p><a href=http://www.stsebastian.org/wo
 rship-services/music-ministries.html target=_blank>St. Sebastian’s Mus
 ic</a></p>\n</div>
URL:https://akronago.org/events/152/akron-regional-chamber-orchestra/?
 lang=en
ATTACH:https://akronago.org/events/152/akron-regional-chamber-orchestr
 a/?lang=en
LOCATION:St Sebastian RC (Akron)\, 476 Mull Ave\, Akron
END:VEVENT
END:VCALENDAR
