BEGIN:VCALENDAR
VERSION:2.0
METHOD:PUBLISH
PRODID:-//hacksw/handcal//NONSGML v1.0//EN
BEGIN:VEVENT
DTSTAMP:20260423T111614Z
DTSTART:20130414T200000Z
DTEND:20130414T235300Z
UID:20130414T200000Z-20130414T235300Z-151@akronago.org
SUMMARY:Handbell Festival
DESCRIPTION:Featuring H. Dean Wagner\, guest conductor\n\nSt. Sebastia
 n’s Music
X-ALT-DESC;FMTTYPE=text/html:<div class=page-restrict-output><p>Featur
 ing H. Dean Wagner\, guest conductor</p>\n<p><a href=http://www.stseba
 stian.org/worship-services/music-ministries.html target=_blank>St. Seb
 astian’s Music</a></p>\n</div>
URL:https://akronago.org/events/151/handbell-festival/?lang=en
ATTACH:https://akronago.org/events/151/handbell-festival/?lang=en
LOCATION:St Sebastian RC (Akron)\, 476 Mull Ave\, Akron
END:VEVENT
END:VCALENDAR
