BEGIN:VCALENDAR
VERSION:2.0
METHOD:PUBLISH
PRODID:-//hacksw/handcal//NONSGML v1.0//EN
BEGIN:VEVENT
DTSTAMP:20260423T111810Z
DTSTART:20130324T200000Z
DTEND:20130324T234900Z
UID:20130324T200000Z-20130324T234900Z-150@akronago.org
SUMMARY:The Living Stations
DESCRIPTION:Featuring the Parish Choir and students of PSR\nLynn Frey-
 Steward\, CAGO\, MM\, Director of Music/Choirmaster/Organist\n\nSt. Se
 bastian’s Music
X-ALT-DESC;FMTTYPE=text/html:<div class=page-restrict-output><p>Featur
 ing the Parish Choir and students of PSR<br>\nLynn Frey-Steward\, CAGO
 \, MM\, Director of Music/Choirmaster/Organist</p>\n<p><a href=http://
 www.stsebastian.org/worship-services/music-ministries.html target=_bla
 nk>St. Sebastian’s Music</a></p>\n</div>
URL:https://akronago.org/events/150/the-living-stations/?lang=en
ATTACH:https://akronago.org/events/150/the-living-stations/?lang=en
LOCATION:St Sebastian RC (Akron)\, 476 Mull Ave\, Akron
END:VEVENT
END:VCALENDAR
