BEGIN:VCALENDAR
VERSION:2.0
METHOD:PUBLISH
PRODID:-//hacksw/handcal//NONSGML v1.0//EN
BEGIN:VEVENT
DTSTAMP:20260423T111829Z
DTSTART:20101201T160000Z
DTEND:20101201T040000Z
UID:20101201T160000Z-20101201T040000Z-15@akronago.org
SUMMARY:Bach's Lunch Concert
DESCRIPTION:featuring the University of Akron Flute Choir\nJane Berkne
 r\, Director
X-ALT-DESC;FMTTYPE=text/html:<div class=page-restrict-output><p>featur
 ing the University of Akron Flute Choir<br>\nJane Berkner\, Director</
 p>\n</div>
URL:https://akronago.org/events/15/bachs-lunch-concert/?lang=en
ATTACH:https://akronago.org/events/15/bachs-lunch-concert/?lang=en
LOCATION:First Congregational (Akron)\, 292 E Market St\, Akron
END:VEVENT
END:VCALENDAR
