BEGIN:VCALENDAR
VERSION:2.0
METHOD:PUBLISH
PRODID:-//hacksw/handcal//NONSGML v1.0//EN
BEGIN:VEVENT
DTSTAMP:20260423T111636Z
DTSTART:20130310T200000Z
DTEND:20130310T234600Z
UID:20130310T200000Z-20130310T234600Z-149@akronago.org
SUMMARY:Eclectic Folk Music—Coffee House Concert Series (in Zwisler Ha
 ll)
DESCRIPTION:Featuring the Malyuk Sisters
X-ALT-DESC;FMTTYPE=text/html:<div class=page-restrict-output><p>Featur
 ing the Malyuk Sisters</p>\n</div>
URL:https://akronago.org/events/149/eclectic-folk-music-e2-80-94coffee
 -house-concert-series-in-zwisler-hall/?lang=en
ATTACH:https://akronago.org/events/149/eclectic-folk-music-e2-80-94cof
 fee-house-concert-series-in-zwisler-hall/?lang=en
LOCATION:St Sebastian RC (Akron)\, 476 Mull Ave\, Akron
END:VEVENT
END:VCALENDAR
