BEGIN:VCALENDAR
VERSION:2.0
METHOD:PUBLISH
PRODID:-//hacksw/handcal//NONSGML v1.0//EN
BEGIN:VEVENT
DTSTAMP:20260423T111904Z
DTSTART:20130210T200000Z
DTEND:20130210T234300Z
UID:20130210T200000Z-20130210T234300Z-148@akronago.org
SUMMARY:Kinder Koncert (in Zwisler Hall)
DESCRIPTION:Akron Regional Chamber Orchestra\n\nSt. Sebastian’s Music
X-ALT-DESC;FMTTYPE=text/html:<div class=page-restrict-output><p><a hre
 f=http://www.arcorchestra.org/ target=_blank>Akron Regional Chamber Or
 chestra</a></p>\n<p><a href=http://www.stsebastian.org/worship-service
 s/music-ministries.html target=_blank>St. Sebastian’s Music</a></p>\n<
 /div>
URL:https://akronago.org/events/148/kinder-koncert-in-zwisler-hall/?la
 ng=en
ATTACH:https://akronago.org/events/148/kinder-koncert-in-zwisler-hall/
 ?lang=en
LOCATION:St Sebastian RC (Akron)\, 476 Mull Ave\, Akron
END:VEVENT
END:VCALENDAR
