BEGIN:VCALENDAR
VERSION:2.0
METHOD:PUBLISH
PRODID:-//hacksw/handcal//NONSGML v1.0//EN
BEGIN:VEVENT
DTSTAMP:20260423T111912Z
DTSTART:20130113T200000Z
DTEND:20130113T234000Z
UID:20130113T200000Z-20130113T234000Z-147@akronago.org
SUMMARY:Andrew Sords\, violin
DESCRIPTION:Andrew Sords\, violinist of the Cleveland Orchestra\n\nSt.
  Sebastian’s Music
X-ALT-DESC;FMTTYPE=text/html:<div class=page-restrict-output><p><a hre
 f=http://www.andrewsords.com target=_blank>Andrew Sords</a>\, violinis
 t of the Cleveland Orchestra</p>\n<p><a href=http://www.stsebastian.or
 g/worship-services/music-ministries.html target=_blank>St. Sebastian’s
  Music</a></p>\n</div>
URL:https://akronago.org/events/147/andrew-sords-violin/?lang=en
ATTACH:https://akronago.org/events/147/andrew-sords-violin/?lang=en
LOCATION:St Sebastian RC (Akron)\, 476 Mull Ave\, Akron
END:VEVENT
END:VCALENDAR
