BEGIN:VCALENDAR
VERSION:2.0
METHOD:PUBLISH
PRODID:-//hacksw/handcal//NONSGML v1.0//EN
BEGIN:VEVENT
DTSTAMP:20260423T111726Z
DTSTART:20121216T193000Z
DTEND:20121216T233700Z
UID:20121216T193000Z-20121216T233700Z-146@akronago.org
SUMMARY:A Ceremony of Lessons & Carols
DESCRIPTION:Lynn Frey-Steward\, CAGO\, MM\, Director of Music\nParish 
 Choir\, Praise & Worship Ensemble\, Children's Choir\, Handbell Choir\
 , and Gregorian Schola\n\nReception to follow\n\nSt. Sebastian’s Music
X-ALT-DESC;FMTTYPE=text/html:<div class=page-restrict-output><p>Lynn F
 rey-Steward\, CAGO\, MM\, Director of Music<br>\nParish Choir\, Praise
  & Worship Ensemble\, Children's Choir\, Handbell Choir\, and Gregoria
 n Schola</p>\n<p><em>Reception to follow</em></p>\n<p><a href=http://w
 ww.stsebastian.org/worship-services/music-ministries.html target=_blan
 k>St. Sebastian’s Music</a></p>\n</div>
URL:https://akronago.org/events/146/a-ceremony-of-lessons-carols/?lang
 =en
ATTACH:https://akronago.org/events/146/a-ceremony-of-lessons-carols/?l
 ang=en
LOCATION:St Sebastian RC (Akron)\, 476 Mull Ave\, Akron
END:VEVENT
END:VCALENDAR
