BEGIN:VCALENDAR
VERSION:2.0
METHOD:PUBLISH
PRODID:-//hacksw/handcal//NONSGML v1.0//EN
BEGIN:VEVENT
DTSTAMP:20260423T111725Z
DTSTART:20121118T193000Z
DTEND:20121118T232700Z
UID:20121118T193000Z-20121118T232700Z-145@akronago.org
SUMMARY:Lynn Frey-Steward: Dedication Concert
DESCRIPTION:Featuring Lynn Frey-Steward\, CAGO\, MM\, Director of Musi
 c/Choirmaster/Organist\nAkron Regional Chamber Orchestra\, Parish Choi
 r\, and String Quartet\n\nAfterwards\, there will be an open organ\, f
 ollowed by dinner at El Rancho (1666 W. Exchange St\, Akron)\n\nSt. Se
 bastian’s Music
X-ALT-DESC;FMTTYPE=text/html:<div class=page-restrict-output><p>Featur
 ing Lynn Frey-Steward\, CAGO\, MM\, Director of Music/Choirmaster/Orga
 nist<br>\nAkron Regional Chamber Orchestra\, Parish Choir\, and String
  Quartet</p>\n<p>Afterwards\, there will be an open organ\, followed b
 y dinner at El Rancho (1666 W. Exchange St\, Akron)</p>\n<p><a href=ht
 tp://www.stsebastian.org/worship-services/music-ministries.html target
 =_blank>St. Sebastian’s Music</a></p>\n</div>
URL:https://akronago.org/events/145/lynn-frey-steward-dedication-conce
 rt/?lang=en
ATTACH:https://akronago.org/events/145/lynn-frey-steward-dedication-co
 ncert/?lang=en
LOCATION:St Sebastian RC (Akron)\, 476 Mull Ave\, Akron
END:VEVENT
END:VCALENDAR
