BEGIN:VCALENDAR
VERSION:2.0
METHOD:PUBLISH
PRODID:-//hacksw/handcal//NONSGML v1.0//EN
BEGIN:VEVENT
DTSTAMP:20260423T111905Z
DTSTART:20130131T233000Z
DTEND:20130201T232300Z
UID:20130131T233000Z-20130201T232300Z-142@akronago.org
SUMMARY:Apollo’s Fire
DESCRIPTION:
X-ALT-DESC;FMTTYPE=text/html:<div class=page-restrict-output></div>
URL:https://akronago.org/events/142/apollo-e2-80-99s-fire/?lang=en
ATTACH:https://akronago.org/events/142/apollo-e2-80-99s-fire/?lang=en
LOCATION:Fairlawn Lutheran\, 3415 W Market St\, Fairlawn\, OH
END:VEVENT
END:VCALENDAR
