BEGIN:VCALENDAR
VERSION:2.0
METHOD:PUBLISH
PRODID:-//hacksw/handcal//NONSGML v1.0//EN
BEGIN:VEVENT
DTSTAMP:20260423T111915Z
DTSTART:20121213T233000Z
DTEND:20121214T232200Z
UID:20121213T233000Z-20121214T232200Z-141@akronago.org
SUMMARY:Apollo’s Fire
DESCRIPTION:Handel's Messiah
X-ALT-DESC;FMTTYPE=text/html:<div class=page-restrict-output><p>Handel
 's Messiah</p>\n</div>
URL:https://akronago.org/events/141/apollo-e2-80-99s-fire/?lang=en
ATTACH:https://akronago.org/events/141/apollo-e2-80-99s-fire/?lang=en
LOCATION:Fairlawn Lutheran\, 3415 W Market St\, Fairlawn\, OH
END:VEVENT
END:VCALENDAR
