BEGIN:VCALENDAR
VERSION:2.0
METHOD:PUBLISH
PRODID:-//hacksw/handcal//NONSGML v1.0//EN
BEGIN:VEVENT
DTSTAMP:20260423T111656Z
DTSTART:20101102T160000Z
DTEND:20101102T040000Z
UID:20101102T160000Z-20101102T040000Z-14@akronago.org
SUMMARY:Tuesday Musical Club Concert & Luncheon
DESCRIPTION:Valerie Thorson\, organ\, with Laurie Lashbrook\, soprano\
 , and Joshua Rzepka\, trumpet
X-ALT-DESC;FMTTYPE=text/html:<div class=page-restrict-output><p>Valeri
 e Thorson\, organ\, with Laurie Lashbrook\, soprano\, and Joshua Rzepk
 a\, trumpet</p>\n</div>
URL:https://akronago.org/events/14/tuesday-musical-club-concert-lunche
 on/?lang=en
ATTACH:https://akronago.org/events/14/tuesday-musical-club-concert-lun
 cheon/?lang=en
LOCATION:First Congregational (Akron)\, 292 E Market St\, Akron
END:VEVENT
END:VCALENDAR
