BEGIN:VCALENDAR
VERSION:2.0
METHOD:PUBLISH
PRODID:-//hacksw/handcal//NONSGML v1.0//EN
BEGIN:VEVENT
DTSTAMP:20260423T111826Z
DTSTART:20121011T233000Z
DTEND:20121012T232000Z
UID:20121011T233000Z-20121012T232000Z-139@akronago.org
SUMMARY:Apollo’s Fire
DESCRIPTION:Brandenburg Concertos
X-ALT-DESC;FMTTYPE=text/html:<div class=page-restrict-output><p>Brande
 nburg Concertos</p>\n</div>
URL:https://akronago.org/events/139/apollo-e2-80-99s-fire/?lang=en
ATTACH:https://akronago.org/events/139/apollo-e2-80-99s-fire/?lang=en
LOCATION:Fairlawn Lutheran\, 3415 W Market St\, Fairlawn\, OH
END:VEVENT
END:VCALENDAR
