BEGIN:VCALENDAR
VERSION:2.0
METHOD:PUBLISH
PRODID:-//hacksw/handcal//NONSGML v1.0//EN
BEGIN:VEVENT
DTSTAMP:20260423T111912Z
DTSTART:20130519T200000Z
DTEND:20130519T231800Z
UID:20130519T200000Z-20130519T231800Z-138@akronago.org
SUMMARY:Three Choir Music Festival
DESCRIPTION:Featuring Revere\, Copley-Fairlawn\, and Firestone High Sc
 hools\nDirected by Deborah Devore\, Basil Kochan\, and Sally Schneider
X-ALT-DESC;FMTTYPE=text/html:<div class=page-restrict-output><p>Featur
 ing Revere\, Copley-Fairlawn\, and Firestone High Schools<br>\nDirecte
 d by Deborah Devore\, Basil Kochan\, and Sally Schneider</p>\n</div>
URL:https://akronago.org/events/138/three-choir-music-festival/?lang=e
 n
ATTACH:https://akronago.org/events/138/three-choir-music-festival/?lan
 g=en
LOCATION:Fairlawn Lutheran\, 3415 W Market St\, Fairlawn\, OH
END:VEVENT
END:VCALENDAR
