BEGIN:VCALENDAR
VERSION:2.0
METHOD:PUBLISH
PRODID:-//hacksw/handcal//NONSGML v1.0//EN
BEGIN:VEVENT
DTSTAMP:20260423T112007Z
DTSTART:20130407T200000Z
DTEND:20130407T231600Z
UID:20130407T200000Z-20130407T231600Z-137@akronago.org
SUMMARY:Ohio State Men’s Glee Club
DESCRIPTION:Robert J. Ward\, director\n\nOhio State Men's Glee Club we
 bsite
X-ALT-DESC;FMTTYPE=text/html:<div class=page-restrict-output><p>Robert
  J. Ward\, director</p>\n<p><a href=http://mgc.osu.edu/ target=_blank>
 Ohio State Men's Glee Club website</a></p>\n</div>
URL:https://akronago.org/events/137/ohio-state-men-e2-80-99s-glee-club
 /?lang=en
ATTACH:https://akronago.org/events/137/ohio-state-men-e2-80-99s-glee-c
 lub/?lang=en
LOCATION:Fairlawn Lutheran\, 3415 W Market St\, Fairlawn\, OH
END:VEVENT
END:VCALENDAR
