BEGIN:VCALENDAR
VERSION:2.0
METHOD:PUBLISH
PRODID:-//hacksw/handcal//NONSGML v1.0//EN
BEGIN:VEVENT
DTSTAMP:20260423T112009Z
DTSTART:20130317T200000Z
DTEND:20130317T231300Z
UID:20130317T200000Z-20130317T231300Z-136@akronago.org
SUMMARY:AGO Hymn Festival with the Falls River Brass
DESCRIPTION:Featuring three area organists: Gary Pinter\, Robert Butle
 r\, and Daniel Fortune\n\nCo-sponsored by the Akron Chapter AGO
X-ALT-DESC;FMTTYPE=text/html:<div class=page-restrict-output><p>Featur
 ing three area organists: Gary Pinter\, Robert Butler\, and Daniel For
 tune</p>\n<p><em>Co-sponsored by the Akron Chapter AGO</em></p>\n</div
 >
URL:https://akronago.org/events/136/hymn-festival-with-the-falls-river
 -brass/?lang=en
ATTACH:https://akronago.org/events/136/hymn-festival-with-the-falls-ri
 ver-brass/?lang=en
LOCATION:Fairlawn Lutheran\, 3415 W Market St\, Fairlawn\, OH
END:VEVENT
END:VCALENDAR
