BEGIN:VCALENDAR
VERSION:2.0
METHOD:PUBLISH
PRODID:-//hacksw/handcal//NONSGML v1.0//EN
BEGIN:VEVENT
DTSTAMP:20260423T111809Z
DTSTART:20130217T190000Z
DTEND:20130217T230800Z
UID:20130217T190000Z-20130217T230800Z-135@akronago.org
SUMMARY:Wittenberg Choir from Springfield\, Ohio
DESCRIPTION:Adam Con\, director
X-ALT-DESC;FMTTYPE=text/html:<div class=page-restrict-output><p><a hre
 f=http://www5.wittenberg.edu/node/2499 target=_blank>Adam Con\,</a> di
 rector</p>\n</div>
URL:https://akronago.org/events/135/wittenberg-choir-from-springfield-
 ohio/?lang=en
ATTACH:https://akronago.org/events/135/wittenberg-choir-from-springfie
 ld-ohio/?lang=en
LOCATION:Fairlawn Lutheran\, 3415 W Market St\, Fairlawn\, OH
END:VEVENT
END:VCALENDAR
