BEGIN:VCALENDAR
VERSION:2.0
METHOD:PUBLISH
PRODID:-//hacksw/handcal//NONSGML v1.0//EN
BEGIN:VEVENT
DTSTAMP:20260423T111825Z
DTSTART:20121209T200000Z
DTEND:20121209T230200Z
UID:20121209T200000Z-20121209T230200Z-134@akronago.org
SUMMARY:Christmas Concert: Master Singers\, Inc. Chorale
DESCRIPTION:J.D. Goddard\, director\nMaster Singers\, Inc. Chorale web
 site
X-ALT-DESC;FMTTYPE=text/html:<div class=page-restrict-output><p>J.D. G
 oddard\, director<br>\n<a href=http://www.mastersingersinc.org target=
 _blank>Master Singers\, Inc. Chorale website</a></p>\n</div>
URL:https://akronago.org/events/134/christmas-concert-master-singers-i
 nc-chorale/?lang=en
ATTACH:https://akronago.org/events/134/christmas-concert-master-singer
 s-inc-chorale/?lang=en
LOCATION:Fairlawn Lutheran\, 3415 W Market St\, Fairlawn\, OH
END:VEVENT
END:VCALENDAR
