BEGIN:VCALENDAR
VERSION:2.0
METHOD:PUBLISH
PRODID:-//hacksw/handcal//NONSGML v1.0//EN
BEGIN:VEVENT
DTSTAMP:20260423T112007Z
DTSTART:20121007T200000Z
DTEND:20121007T230100Z
UID:20121007T200000Z-20121007T230100Z-133@akronago.org
SUMMARY:Barbara MacGregor
DESCRIPTION:
X-ALT-DESC;FMTTYPE=text/html:<div class=page-restrict-output></div>
URL:https://akronago.org/events/133/barbara-macgregor/?lang=en
ATTACH:https://akronago.org/events/133/barbara-macgregor/?lang=en
LOCATION:Fairlawn Lutheran\, 3415 W Market St\, Fairlawn\, OH
END:VEVENT
END:VCALENDAR
