BEGIN:VCALENDAR
VERSION:2.0
METHOD:PUBLISH
PRODID:-//hacksw/handcal//NONSGML v1.0//EN
BEGIN:VEVENT
DTSTAMP:20260423T111725Z
DTSTART:20130420T000000Z
DTEND:20130420T223800Z
UID:20130420T000000Z-20130420T223800Z-132@akronago.org
SUMMARY:Dorothy Papadakos: An Evening with Charlie Chaplin (Silent Fil
 m & Organ)
DESCRIPTION:Dorothy Papadakos website
X-ALT-DESC;FMTTYPE=text/html:<div class=page-restrict-output><p><a hre
 f=http://www.dorothypapadakos.com target=_blank>Dorothy Papadakos webs
 ite</a></p>\n</div>
URL:https://akronago.org/events/132/dorothy-papadakos-an-evening-with-
 charlie-chaplin-silent-film-organ/?lang=en
ATTACH:https://akronago.org/events/132/dorothy-papadakos-an-evening-wi
 th-charlie-chaplin-silent-film-organ/?lang=en
LOCATION:Holy Trinity Lutheran (Akron)\, 50 North Prospect St\, Akron
END:VEVENT
END:VCALENDAR
