BEGIN:VCALENDAR
VERSION:2.0
METHOD:PUBLISH
PRODID:-//hacksw/handcal//NONSGML v1.0//EN
BEGIN:VEVENT
DTSTAMP:20260423T111725Z
DTSTART:20130316T000000Z
DTEND:20130316T223500Z
UID:20130316T000000Z-20130316T223500Z-131@akronago.org
SUMMARY:Janette Fishell & Colin Andrews\, duo organists
DESCRIPTION:For biographies of the performers\, click on this link: Ja
 nette Fishell & Colin Andrews
X-ALT-DESC;FMTTYPE=text/html:<div class=page-restrict-output><p>For bi
 ographies of the performers\, click on this link: <a href=http://www.t
 rinityorganseries.org/index.php/2012-2013-season/duo-organist-janette-
 fishell-a-collin-andrews--march-15-2013 target=_blank>Janette Fishell 
 & Colin Andrews</a></p>\n</div>
URL:https://akronago.org/events/131/janette-fishell-colin-andrews/?lan
 g=en
ATTACH:https://akronago.org/events/131/janette-fishell-colin-andrews/?
 lang=en
LOCATION:Holy Trinity Lutheran (Akron)\, 50 North Prospect St\, Akron
END:VEVENT
END:VCALENDAR
