BEGIN:VCALENDAR
VERSION:2.0
METHOD:PUBLISH
PRODID:-//hacksw/handcal//NONSGML v1.0//EN
BEGIN:VEVENT
DTSTAMP:20260423T111904Z
DTSTART:20121207T233000Z
DTEND:20121208T223300Z
UID:20121207T233000Z-20121208T223300Z-130@akronago.org
SUMMARY:Advent Procession of Lessons & Carols
DESCRIPTION:Featuring the Trinity Choir\, Bell Choir & Brass
X-ALT-DESC;FMTTYPE=text/html:<div class=page-restrict-output><p>Featur
 ing the Trinity Choir\, Bell Choir & Brass</p>\n</div>
URL:https://akronago.org/events/130/advent-procession-of-lessons-carol
 s/?lang=en
ATTACH:https://akronago.org/events/130/advent-procession-of-lessons-ca
 rols/?lang=en
LOCATION:Holy Trinity Lutheran (Akron)\, 50 North Prospect St\, Akron
END:VEVENT
END:VCALENDAR
