BEGIN:VCALENDAR
VERSION:2.0
METHOD:PUBLISH
PRODID:-//hacksw/handcal//NONSGML v1.0//EN
BEGIN:VEVENT
DTSTAMP:20260423T111739Z
DTSTART:20101010T190000Z
DTEND:20101010T040000Z
UID:20101010T190000Z-20101010T040000Z-13@akronago.org
SUMMARY:University of Akron Choirs & Orchestra
DESCRIPTION:Guy Victor Bordo & Samuel Gordon\, conductors
X-ALT-DESC;FMTTYPE=text/html:<div class=page-restrict-output><p>Guy Vi
 ctor Bordo & Samuel Gordon\, conductors</p>\n</div>
URL:https://akronago.org/events/13/university-of-akron-choirs-orchestr
 a/?lang=en
ATTACH:https://akronago.org/events/13/university-of-akron-choirs-orche
 stra/?lang=en
LOCATION:First Congregational (Akron)\, 292 E Market St\, Akron
END:VEVENT
END:VCALENDAR
